BEGIN:VCALENDAR
VERSION:2.0
PRODID:-//SAINT MICHAEL - ECPv6.15.20//NONSGML v1.0//EN
CALSCALE:GREGORIAN
METHOD:PUBLISH
X-WR-CALNAME:SAINT MICHAEL
X-ORIGINAL-URL:https://saintmichaelsmuskegon.com
X-WR-CALDESC:Events for SAINT MICHAEL
REFRESH-INTERVAL;VALUE=DURATION:PT1H
X-Robots-Tag:noindex
X-PUBLISHED-TTL:PT1H
BEGIN:VTIMEZONE
TZID:UTC
BEGIN:STANDARD
TZOFFSETFROM:+0000
TZOFFSETTO:+0000
TZNAME:UTC
DTSTART:20250101T000000
END:STANDARD
END:VTIMEZONE
BEGIN:VEVENT
DTSTART;TZID=UTC:20260501T080000
DTEND;TZID=UTC:20260501T100000
DTSTAMP:20260424T154154
CREATED:20260413T141354Z
LAST-MODIFIED:20260413T152444Z
UID:8753-1777622400-1777629600@saintmichaelsmuskegon.com
SUMMARY:Rosary\, Mass\, Confession\, First Friday Devotion
DESCRIPTION:Rosary- 8:00 \nMass – 8:30 \nEucharistic Adoration 9-9:45 \n9:45-10- Devotions with incense \nConfession 9-9:30 \n 
URL:https://saintmichaelsmuskegon.com/event/rosary-mass-confession-first-friday-devotion/
LOCATION:St. Michael’s Church\, 1716 Sixth Street\, Muskegon\, MI\, 49441\, United States
END:VEVENT
BEGIN:VEVENT
DTSTART;TZID=UTC:20260503T083000
DTEND;TZID=UTC:20260503T100000
DTSTAMP:20260424T154154
CREATED:20260413T150318Z
LAST-MODIFIED:20260413T150931Z
UID:8798-1777797000-1777802400@saintmichaelsmuskegon.com
SUMMARY:Rosary\, Mass\, Coffee and Donuts
DESCRIPTION:8:30 Rosary \n9am Mass \n1:00 Fellowship in the Family Center
URL:https://saintmichaelsmuskegon.com/event/rosary-and-mass-2/
LOCATION:St. Michael’s Church\, 1716 Sixth Street\, Muskegon\, MI\, 49441\, United States
END:VEVENT
BEGIN:VEVENT
DTSTART;TZID=UTC:20260505T170000
DTEND;TZID=UTC:20260505T183000
DTSTAMP:20260424T154154
CREATED:20260413T141615Z
LAST-MODIFIED:20260413T141615Z
UID:8755-1778000400-1778005800@saintmichaelsmuskegon.com
SUMMARY:Confession and Mass
DESCRIPTION:Confession- 5-6pm \nMass – 6pm \n 
URL:https://saintmichaelsmuskegon.com/event/confession-and-mass-12/
LOCATION:St. Michael’s Church\, 1716 Sixth Street\, Muskegon\, MI\, 49441\, United States
END:VEVENT
BEGIN:VEVENT
DTSTART;TZID=UTC:20260506T130000
DTEND;TZID=UTC:20260506T153000
DTSTAMP:20260424T154154
CREATED:20260413T142731Z
LAST-MODIFIED:20260413T142731Z
UID:8767-1778072400-1778081400@saintmichaelsmuskegon.com
SUMMARY:Bingo
DESCRIPTION:1:00- 5 cents per card
URL:https://saintmichaelsmuskegon.com/event/bingo-12/
LOCATION:St. Michael’s School
END:VEVENT
BEGIN:VEVENT
DTSTART;TZID=UTC:20260508T080000
DTEND;TZID=UTC:20260508T093000
DTSTAMP:20260424T154154
CREATED:20260413T143545Z
LAST-MODIFIED:20260413T143619Z
UID:8773-1778227200-1778232600@saintmichaelsmuskegon.com
SUMMARY:Rosary\, Mass and Confession
DESCRIPTION:8:00am Rosary \n8:30am Mass \n9:30am Confession
URL:https://saintmichaelsmuskegon.com/event/rosary-mass-and-confession-6/
LOCATION:St. Michael’s Church\, 1716 Sixth Street\, Muskegon\, MI\, 49441\, United States
END:VEVENT
BEGIN:VEVENT
DTSTART;TZID=UTC:20260510T083000
DTEND;TZID=UTC:20260510T100000
DTSTAMP:20260424T154154
CREATED:20260413T150402Z
LAST-MODIFIED:20260413T150402Z
UID:8800-1778401800-1778407200@saintmichaelsmuskegon.com
SUMMARY:Rosary and Mass
DESCRIPTION:8:30 Rosary \n9am Mass
URL:https://saintmichaelsmuskegon.com/event/rosary-and-mass-3/
LOCATION:St.. Michael’s Parish Office\, 1716 6th Street\, Muskegon\, MI\, 49441\, United States
END:VEVENT
BEGIN:VEVENT
DTSTART;TZID=UTC:20260512T170000
DTEND;TZID=UTC:20260512T183000
DTSTAMP:20260424T154154
CREATED:20260413T141855Z
LAST-MODIFIED:20260413T142412Z
UID:8761-1778605200-1778610600@saintmichaelsmuskegon.com
SUMMARY:Confession and Mass
DESCRIPTION:Confession- 5-6pm \nMass – 6pm \n 
URL:https://saintmichaelsmuskegon.com/event/confession-and-mass-15/
LOCATION:St.. Michael’s Parish Office\, 1716 6th Street\, Muskegon\, MI\, 49441\, United States
END:VEVENT
BEGIN:VEVENT
DTSTART;TZID=UTC:20260513T080000
DTEND;TZID=UTC:20260513T170000
DTSTAMP:20260424T154154
CREATED:20260413T145637Z
LAST-MODIFIED:20260413T151431Z
UID:8793-1778659200-1778691600@saintmichaelsmuskegon.com
SUMMARY:Fatama Mass- St. Francis
DESCRIPTION:St. Francis de Sales Church \n5:30 Rosary \n6pm Mass
URL:https://saintmichaelsmuskegon.com/event/fatama-mass/
LOCATION:Marian Chapel St. Francis\, 2929 McCracken Street\, Norton Shores\, MI\, 49441\, United States
END:VEVENT
BEGIN:VEVENT
DTSTART;TZID=UTC:20260515T080000
DTEND;TZID=UTC:20260515T093000
DTSTAMP:20260424T154154
CREATED:20260413T144042Z
LAST-MODIFIED:20260413T144042Z
UID:8777-1778832000-1778837400@saintmichaelsmuskegon.com
SUMMARY:Rosary\, Mass and Confession
DESCRIPTION:8:00am Rosary \n8:30am Mass \n9:30am Confession
URL:https://saintmichaelsmuskegon.com/event/rosary-mass-and-confession-8/
LOCATION:St. Michael’s Church\, 1716 Sixth Street\, Muskegon\, MI\, 49441\, United States
END:VEVENT
BEGIN:VEVENT
DTSTART;TZID=UTC:20260515T180000
DTEND;TZID=UTC:20260523T180000
DTSTAMP:20260424T154154
CREATED:20260413T174457Z
LAST-MODIFIED:20260413T174457Z
UID:8819-1778868000-1779559200@saintmichaelsmuskegon.com
SUMMARY:Holy Spirit Novina
DESCRIPTION:The nine days before Pentacost
URL:https://saintmichaelsmuskegon.com/event/holy-spirit-novina/
LOCATION:Divine Mercy Chapel\, 282 W Dale Ave \, Muskegon\, 49441
END:VEVENT
BEGIN:VEVENT
DTSTART;TZID=UTC:20260516T093000
DTEND;TZID=UTC:20260516T120000
DTSTAMP:20260424T154154
CREATED:20260413T145430Z
LAST-MODIFIED:20260413T145430Z
UID:8791-1778923800-1778932800@saintmichaelsmuskegon.com
SUMMARY:Funeral
DESCRIPTION:Hanslets \n9:30 visitation \n10:30 Funeral
URL:https://saintmichaelsmuskegon.com/event/funeral-2/
LOCATION:St. Michael’s Church\, 1716 Sixth Street\, Muskegon\, MI\, 49441\, United States
END:VEVENT
BEGIN:VEVENT
DTSTART;TZID=UTC:20260517T083000
DTEND;TZID=UTC:20260517T100000
DTSTAMP:20260424T154154
CREATED:20260413T150447Z
LAST-MODIFIED:20260413T150447Z
UID:8802-1779006600-1779012000@saintmichaelsmuskegon.com
SUMMARY:Rosary and Mass
DESCRIPTION:8:30 Rosary \n9am Mass
URL:https://saintmichaelsmuskegon.com/event/rosary-and-mass-4/
LOCATION:St. Michael’s Church\, 1716 Sixth Street\, Muskegon\, MI\, 49441\, United States
END:VEVENT
BEGIN:VEVENT
DTSTART;TZID=UTC:20260519T170000
DTEND;TZID=UTC:20260519T183000
DTSTAMP:20260424T154154
CREATED:20260413T141752Z
LAST-MODIFIED:20260413T141800Z
UID:8759-1779210000-1779215400@saintmichaelsmuskegon.com
SUMMARY:Confession and Mass
DESCRIPTION:Confession- 5-6pm \nMass – 6pm \n 
URL:https://saintmichaelsmuskegon.com/event/confession-and-mass-14/
LOCATION:St. Michael’s Church\, 1716 Sixth Street\, Muskegon\, MI\, 49441\, United States
END:VEVENT
BEGIN:VEVENT
DTSTART;TZID=UTC:20260520T130000
DTEND;TZID=UTC:20260520T153000
DTSTAMP:20260424T154154
CREATED:20260413T142840Z
LAST-MODIFIED:20260413T142840Z
UID:8769-1779282000-1779291000@saintmichaelsmuskegon.com
SUMMARY:Bingo
DESCRIPTION:5 cents per card
URL:https://saintmichaelsmuskegon.com/event/bingo-13/
LOCATION:St. Michael’s School
END:VEVENT
BEGIN:VEVENT
DTSTART;TZID=UTC:20260522T080000
DTEND;TZID=UTC:20260522T093000
DTSTAMP:20260424T154154
CREATED:20260413T144729Z
LAST-MODIFIED:20260413T144744Z
UID:8781-1779436800-1779442200@saintmichaelsmuskegon.com
SUMMARY:Rosary\, Mass and Confession
DESCRIPTION:8:00am Rosary \n8:30am Mass \n9:30am Confession
URL:https://saintmichaelsmuskegon.com/event/rosary-mass-and-confession-9/
LOCATION:St. Michael’s Church\, 1716 Sixth Street\, Muskegon\, MI\, 49441\, United States
END:VEVENT
BEGIN:VEVENT
DTSTART;TZID=UTC:20260524T083000
DTEND;TZID=UTC:20260524T100000
DTSTAMP:20260424T154154
CREATED:20260413T150536Z
LAST-MODIFIED:20260413T150536Z
UID:8804-1779611400-1779616800@saintmichaelsmuskegon.com
SUMMARY:Rosary and Mass
DESCRIPTION:8:30 Rosary \n9am Mass
URL:https://saintmichaelsmuskegon.com/event/rosary-and-mass-5/
LOCATION:St. Michael’s Church\, 1716 Sixth Street\, Muskegon\, MI\, 49441\, United States
END:VEVENT
BEGIN:VEVENT
DTSTART;VALUE=DATE:20260525
DTEND;VALUE=DATE:20260526
DTSTAMP:20260424T154154
CREATED:20260413T145043Z
LAST-MODIFIED:20260413T145043Z
UID:8787-1779667200-1779753599@saintmichaelsmuskegon.com
SUMMARY:Office Closed
DESCRIPTION:Memorial Day\, office closed.
URL:https://saintmichaelsmuskegon.com/event/office-closed-4/
END:VEVENT
BEGIN:VEVENT
DTSTART;TZID=UTC:20260526T110000
DTEND;TZID=UTC:20260526T123000
DTSTAMP:20260424T154154
CREATED:20260413T145249Z
LAST-MODIFIED:20260413T145249Z
UID:8789-1779793200-1779798600@saintmichaelsmuskegon.com
SUMMARY:Funeral
DESCRIPTION:Fr. Phil Witkowski
URL:https://saintmichaelsmuskegon.com/event/funeral/
LOCATION:St. Michael’s Church\, 1716 Sixth Street\, Muskegon\, MI\, 49441\, United States
END:VEVENT
BEGIN:VEVENT
DTSTART;TZID=UTC:20260526T170000
DTEND;TZID=UTC:20260526T183000
DTSTAMP:20260424T154154
CREATED:20260413T141932Z
LAST-MODIFIED:20260413T142320Z
UID:8763-1779814800-1779820200@saintmichaelsmuskegon.com
SUMMARY:Confession and Mass
DESCRIPTION:Confession- 5-6pm \nMass – 6pm \n 
URL:https://saintmichaelsmuskegon.com/event/confession-and-mass-16/
LOCATION:St. Michael’s Church\, 1716 Sixth Street\, Muskegon\, MI\, 49441\, United States
END:VEVENT
BEGIN:VEVENT
DTSTART;TZID=UTC:20260529T080000
DTEND;TZID=UTC:20260529T093000
DTSTAMP:20260424T154154
CREATED:20260413T144847Z
LAST-MODIFIED:20260413T144847Z
UID:8783-1780041600-1780047000@saintmichaelsmuskegon.com
SUMMARY:Rosary\, Mass and Confession
DESCRIPTION:8:00am Rosary \n8:30am Mass \n9:30am Confession
URL:https://saintmichaelsmuskegon.com/event/rosary-mass-and-confession-10/
LOCATION:St. Michael’s Church\, 1716 Sixth Street\, Muskegon\, MI\, 49441\, United States
END:VEVENT
BEGIN:VEVENT
DTSTART;TZID=UTC:20260531T083000
DTEND;TZID=UTC:20260531T100000
DTSTAMP:20260424T154154
CREATED:20260413T150624Z
LAST-MODIFIED:20260413T150624Z
UID:8806-1780216200-1780221600@saintmichaelsmuskegon.com
SUMMARY:Rosary and Mass
DESCRIPTION:8:30 Rosary \n9am Mass
URL:https://saintmichaelsmuskegon.com/event/rosary-and-mass-6/
LOCATION:St. Michael’s Church\, 1716 Sixth Street\, Muskegon\, MI\, 49441\, United States
END:VEVENT
END:VCALENDAR