BEGIN:VCALENDAR
VERSION:2.0
PRODID:-//SAINT MICHAEL - ECPv6.15.20//NONSGML v1.0//EN
CALSCALE:GREGORIAN
METHOD:PUBLISH
X-WR-CALNAME:SAINT MICHAEL
X-ORIGINAL-URL:https://saintmichaelsmuskegon.com
X-WR-CALDESC:Events for SAINT MICHAEL
REFRESH-INTERVAL;VALUE=DURATION:PT1H
X-Robots-Tag:noindex
X-PUBLISHED-TTL:PT1H
BEGIN:VTIMEZONE
TZID:UTC
BEGIN:STANDARD
TZOFFSETFROM:+0000
TZOFFSETTO:+0000
TZNAME:UTC
DTSTART:20240101T000000
END:STANDARD
END:VTIMEZONE
BEGIN:VEVENT
DTSTART;TZID=UTC:20251101T180000
DTEND;TZID=UTC:20251109T190000
DTSTAMP:20260424T224925
CREATED:20250926T131307Z
LAST-MODIFIED:20251029T190259Z
UID:8338-1762020000-1762714800@saintmichaelsmuskegon.com
SUMMARY:Novena for the Souls in Purgatory
DESCRIPTION:St. Mary’s Cemetary
URL:https://saintmichaelsmuskegon.com/event/novena-for-the-souls-in-purgatory/
LOCATION:St. Mary’s Cemetary\, MI\, United States
END:VEVENT
BEGIN:VEVENT
DTSTART;TZID=UTC:20251105T130000
DTEND;TZID=UTC:20251105T153000
DTSTAMP:20260424T224925
CREATED:20250915T135600Z
LAST-MODIFIED:20250915T135627Z
UID:8313-1762347600-1762356600@saintmichaelsmuskegon.com
SUMMARY:Bingo
DESCRIPTION:St. Michael’s Family center. 5 cents per card.
URL:https://saintmichaelsmuskegon.com/event/bingo-3/
LOCATION:St. Michael’s Family Center\, 1716 Sixth St\, Muskegon\, MI\, 49441\, United States
END:VEVENT
BEGIN:VEVENT
DTSTART;TZID=UTC:20251119T130000
DTEND;TZID=UTC:20251119T153000
DTSTAMP:20260424T224925
CREATED:20251013T190037Z
LAST-MODIFIED:20251013T190037Z
UID:8362-1763557200-1763566200@saintmichaelsmuskegon.com
SUMMARY:Bingo
DESCRIPTION:
URL:https://saintmichaelsmuskegon.com/event/bingo-7/
LOCATION:St. Michael’s Family Center\, 1716 Sixth St\, Muskegon\, MI\, 49441\, United States
END:VEVENT
BEGIN:VEVENT
DTSTART;VALUE=DATE:20251128
DTEND;VALUE=DATE:20251129
DTSTAMP:20260424T224925
CREATED:20251013T190319Z
LAST-MODIFIED:20251013T190319Z
UID:8366-1764288000-1764374399@saintmichaelsmuskegon.com
SUMMARY:Office Closed
DESCRIPTION:
URL:https://saintmichaelsmuskegon.com/event/office-closed/
END:VEVENT
END:VCALENDAR