BEGIN:VCALENDAR
VERSION:2.0
PRODID:-//SAINT MICHAEL - ECPv6.15.20//NONSGML v1.0//EN
CALSCALE:GREGORIAN
METHOD:PUBLISH
X-WR-CALNAME:SAINT MICHAEL
X-ORIGINAL-URL:https://saintmichaelsmuskegon.com
X-WR-CALDESC:Events for SAINT MICHAEL
REFRESH-INTERVAL;VALUE=DURATION:PT1H
X-Robots-Tag:noindex
X-PUBLISHED-TTL:PT1H
BEGIN:VTIMEZONE
TZID:UTC
BEGIN:STANDARD
TZOFFSETFROM:+0000
TZOFFSETTO:+0000
TZNAME:UTC
DTSTART:20240101T000000
END:STANDARD
END:VTIMEZONE
BEGIN:VEVENT
DTSTART;TZID=UTC:20250907T110000
DTEND;TZID=UTC:20250907T120000
DTSTAMP:20260425T021154
CREATED:20250905T144416Z
LAST-MODIFIED:20250909T170536Z
UID:8278-1757242800-1757246400@saintmichaelsmuskegon.com
SUMMARY:Coffee and Donuts after Mass
DESCRIPTION:Join us in the Family Center for food and fellowship.
URL:https://saintmichaelsmuskegon.com/event/coffe-and-donuts-after-mass/
END:VEVENT
BEGIN:VEVENT
DTSTART;TZID=UTC:20250917T130000
DTEND;TZID=UTC:20250917T150000
DTSTAMP:20260425T021154
CREATED:20250910T125443Z
LAST-MODIFIED:20250910T125443Z
UID:8282-1758114000-1758121200@saintmichaelsmuskegon.com
SUMMARY:Bingo
DESCRIPTION:
URL:https://saintmichaelsmuskegon.com/event/bingo/
LOCATION:St. Michael’s Family Center\, 1716 Sixth St\, Muskegon\, MI\, 49441\, United States
END:VEVENT
BEGIN:VEVENT
DTSTART;TZID=UTC:20250923T170000
DTEND;TZID=UTC:20250923T170000
DTSTAMP:20260425T021154
CREATED:20250905T144132Z
LAST-MODIFIED:20250905T144132Z
UID:8273-1758646800-1758646800@saintmichaelsmuskegon.com
SUMMARY:No evening mass today.
DESCRIPTION:
URL:https://saintmichaelsmuskegon.com/event/no-evening-mass-today/
END:VEVENT
BEGIN:VEVENT
DTSTART;TZID=UTC:20250926T083000
DTEND;TZID=UTC:20250926T083000
DTSTAMP:20260425T021154
CREATED:20250905T144240Z
LAST-MODIFIED:20250905T144240Z
UID:8276-1758875400-1758875400@saintmichaelsmuskegon.com
SUMMARY:No morning mass or confessions today
DESCRIPTION:
URL:https://saintmichaelsmuskegon.com/event/no-morning-mass-or-confessions-today/
END:VEVENT
BEGIN:VEVENT
DTSTART;VALUE=DATE:20250929
DTEND;VALUE=DATE:20250930
DTSTAMP:20260425T021154
CREATED:20250922T142141Z
LAST-MODIFIED:20250922T142141Z
UID:8325-1759104000-1759190399@saintmichaelsmuskegon.com
SUMMARY:St. Michael the Archangel Feast Day
DESCRIPTION:
URL:https://saintmichaelsmuskegon.com/event/st-michael-the-archangel-feast-day/
END:VEVENT
BEGIN:VEVENT
DTSTART;TZID=UTC:20250930T080000
DTEND;TZID=UTC:20250930T170000
DTSTAMP:20260425T021154
CREATED:20250924T130656Z
LAST-MODIFIED:20250924T130656Z
UID:8327-1759219200-1759251600@saintmichaelsmuskegon.com
SUMMARY:No evening mass
DESCRIPTION:Father is on vacation.
URL:https://saintmichaelsmuskegon.com/event/no-evening-mass/
END:VEVENT
END:VCALENDAR