BEGIN:VCALENDAR
VERSION:2.0
PRODID:-//SAINT MICHAEL - ECPv6.15.20//NONSGML v1.0//EN
CALSCALE:GREGORIAN
METHOD:PUBLISH
X-WR-CALNAME:SAINT MICHAEL
X-ORIGINAL-URL:https://saintmichaelsmuskegon.com
X-WR-CALDESC:Events for SAINT MICHAEL
REFRESH-INTERVAL;VALUE=DURATION:PT1H
X-Robots-Tag:noindex
X-PUBLISHED-TTL:PT1H
BEGIN:VTIMEZONE
TZID:UTC
BEGIN:STANDARD
TZOFFSETFROM:+0000
TZOFFSETTO:+0000
TZNAME:UTC
DTSTART:20250101T000000
END:STANDARD
END:VTIMEZONE
BEGIN:VEVENT
DTSTART;TZID=UTC:20260222T123000
DTEND;TZID=UTC:20260222T133000
DTSTAMP:20260425T033309
CREATED:20260211T154714Z
LAST-MODIFIED:20260211T154714Z
UID:8675-1771763400-1771767000@saintmichaelsmuskegon.com
SUMMARY:Gorzkie Zale
DESCRIPTION:The Church in Eastern Europe at one time had all worship inLatin. Even the passion play and Mary’s Sorrow was in a language that the people did not understand. One parish in Poland decided to convert these into Polish and sang them so all could understand. This tradition grew and found its way into many churches and languages. We continue this tradition here every Sunday during Lent. The songs are sung in Polish\, but English words for translation are provided. All are welcome to join in this beautiful continuation of a way to reflect on the passion of Christ and of Mary’s Sorrow.
URL:https://saintmichaelsmuskegon.com/event/gorzkie-zale-5/
LOCATION:St. Michael’s Church\, 1716 Sixth Street\, Muskegon\, MI\, 49441\, United States
END:VEVENT
BEGIN:VEVENT
DTSTART;TZID=UTC:20260221T090000
DTEND;TZID=UTC:20260221T103000
DTSTAMP:20260425T033309
CREATED:20260119T190818Z
LAST-MODIFIED:20260119T190818Z
UID:8605-1771664400-1771669800@saintmichaelsmuskegon.com
SUMMARY:Men's Faith and Fellowship
DESCRIPTION:Men’s Faith & Fellowship Join us any Saturday mornings from 9- 10:30am in conference room 3 for video presentation followed by discussion\, fellowship and refreshments.
URL:https://saintmichaelsmuskegon.com/event/mens-faith-and-fellowship-5/
LOCATION:St. Francis conference room 3
END:VEVENT
BEGIN:VEVENT
DTSTART;TZID=UTC:20260220T110000
DTEND;TZID=UTC:20260220T120000
DTSTAMP:20260425T033309
CREATED:20260211T155506Z
LAST-MODIFIED:20260211T155506Z
UID:8682-1771585200-1771588800@saintmichaelsmuskegon.com
SUMMARY:Funeral for Mary Ann Sweet
DESCRIPTION:Funeral luncheon to follow in Family Center
URL:https://saintmichaelsmuskegon.com/event/funeral-for-mary-ann-sweet/
LOCATION:St. Michael’s Church\, 1716 Sixth Street\, Muskegon\, MI\, 49441\, United States
END:VEVENT
BEGIN:VEVENT
DTSTART;TZID=UTC:20260220T080000
DTEND;TZID=UTC:20260220T093000
DTSTAMP:20260425T033309
CREATED:20260119T180650Z
LAST-MODIFIED:20260119T181948Z
UID:8564-1771574400-1771579800@saintmichaelsmuskegon.com
SUMMARY:Rosary\, Mass\, Confession\, Stations of the Cross
DESCRIPTION:Rosary at 8am\, Mass at 8:30\, Confession at 9:oo\, Stations at 9:00
URL:https://saintmichaelsmuskegon.com/event/rosary-mass-and-confessions/
LOCATION:MI
END:VEVENT
BEGIN:VEVENT
DTSTART;TZID=UTC:20260218T180000
DTEND;TZID=UTC:20260218T190000
DTSTAMP:20260425T033309
CREATED:20260128T194512Z
LAST-MODIFIED:20260128T195102Z
UID:8648-1771437600-1771441200@saintmichaelsmuskegon.com
SUMMARY:Ash Wednesday Mass at St. Francis
DESCRIPTION:
URL:https://saintmichaelsmuskegon.com/event/ash-wednesday-mass-at-st-francis/
LOCATION:St. Francis De Sales Church\, 2929 McCracken St.\, Norton Shores\, MI\, United States
END:VEVENT
BEGIN:VEVENT
DTSTART;TZID=UTC:20260218T130000
DTEND;TZID=UTC:20260218T153000
DTSTAMP:20260425T033309
CREATED:20260119T173905Z
LAST-MODIFIED:20260119T173905Z
UID:8545-1771419600-1771428600@saintmichaelsmuskegon.com
SUMMARY:Bingo
DESCRIPTION:
URL:https://saintmichaelsmuskegon.com/event/bingo-11/
LOCATION:St. Michael’s Family Center\, 1716 Sixth St\, Muskegon\, MI\, 49441\, United States
END:VEVENT
BEGIN:VEVENT
DTSTART;TZID=UTC:20260218T083000
DTEND;TZID=UTC:20260218T213000
DTSTAMP:20260425T033309
CREATED:20260211T153448Z
LAST-MODIFIED:20260211T153850Z
UID:8665-1771403400-1771450200@saintmichaelsmuskegon.com
SUMMARY:Ash Wednesday Mass
DESCRIPTION:
URL:https://saintmichaelsmuskegon.com/event/ash-wednesday-mass/
LOCATION:St. Michael’s Church\, 1716 Sixth Street\, Muskegon\, MI\, 49441\, United States
END:VEVENT
BEGIN:VEVENT
DTSTART;TZID=UTC:20260217T170000
DTEND;TZID=UTC:20260217T183000
DTSTAMP:20260425T033309
CREATED:20260119T175821Z
LAST-MODIFIED:20260119T175843Z
UID:8553-1771347600-1771353000@saintmichaelsmuskegon.com
SUMMARY:Confession and Mass
DESCRIPTION:Confession starts at 5pm\, Mass at 6pm.
URL:https://saintmichaelsmuskegon.com/event/8553/
LOCATION:St. Michael’s Church\, 1716 Sixth Street\, Muskegon\, MI\, 49441\, United States
END:VEVENT
BEGIN:VEVENT
DTSTART;TZID=UTC:20260216T183000
DTEND;TZID=UTC:20260216T200000
DTSTAMP:20260425T033309
CREATED:20260119T191630Z
LAST-MODIFIED:20260119T191630Z
UID:8619-1771266600-1771272000@saintmichaelsmuskegon.com
SUMMARY:That Man Is You!
DESCRIPTION:TMIY (That Man Is You) will begin our next 13 weeks starting Monday January 19 from 6:30-8pm in conference room 3. Video\, handouts & discussion. No homework!
URL:https://saintmichaelsmuskegon.com/event/that-man-is-you-7/
LOCATION:St. Francis conference room 3
END:VEVENT
BEGIN:VEVENT
DTSTART;TZID=UTC:20260214T090000
DTEND;TZID=UTC:20260214T103000
DTSTAMP:20260425T033309
CREATED:20260119T190700Z
LAST-MODIFIED:20260119T190700Z
UID:8602-1771059600-1771065000@saintmichaelsmuskegon.com
SUMMARY:Men's Faith and Fellowship
DESCRIPTION:Men’s Faith & Fellowship Join us any Saturday mornings from 9- 10:30am in conference room 3 for video presentation followed by discussion\, fellowship and refreshments.
URL:https://saintmichaelsmuskegon.com/event/mens-faith-and-fellowship-4/
LOCATION:St. Francis conference room 3
END:VEVENT
BEGIN:VEVENT
DTSTART;VALUE=DATE:20260213
DTEND;VALUE=DATE:20260214
DTSTAMP:20260425T033309
CREATED:20260119T180548Z
LAST-MODIFIED:20260119T181335Z
UID:8562-1770940800-1771027199@saintmichaelsmuskegon.com
SUMMARY:No Mass
DESCRIPTION:Father On Vacation
URL:https://saintmichaelsmuskegon.com/event/rosary-confession-and-mass/
LOCATION:St. Michael’s Church\, 1716 Sixth Street\, Muskegon\, MI\, 49441\, United States
END:VEVENT
BEGIN:VEVENT
DTSTART;TZID=UTC:20260212T183000
DTEND;TZID=UTC:20260212T200000
DTSTAMP:20260425T033309
CREATED:20260119T183119Z
LAST-MODIFIED:20260119T183119Z
UID:8581-1770921000-1770926400@saintmichaelsmuskegon.com
SUMMARY:Children's Faith Formation
DESCRIPTION:3yrs-5th grade. We meet in the Faith Formation Classrooms\, enter through  the main doorsContact Liorah with questions: 231-286-6524 or youth@stfrancisns.org
URL:https://saintmichaelsmuskegon.com/event/childrens-faith-formation-5/
LOCATION:St. Francis School\, 2929 McCracken Street\, Norton Shores\, MI\, 49441\, United States
END:VEVENT
BEGIN:VEVENT
DTSTART;TZID=UTC:20260211T190000
DTEND;TZID=UTC:20260211T203000
DTSTAMP:20260425T033309
CREATED:20260119T173812Z
LAST-MODIFIED:20260119T173812Z
UID:8543-1770836400-1770841800@saintmichaelsmuskegon.com
SUMMARY:Relate Group
DESCRIPTION:Casual bible study and\ncommunity building \nWhat is Relate?\nA group focused on our shared love for God and seeking\nconnection\, friendship\, and encouragement with others.\nOpen to all 18+ \n 
URL:https://saintmichaelsmuskegon.com/event/relate-group/
LOCATION:St. Francis Youth Room
END:VEVENT
BEGIN:VEVENT
DTSTART;VALUE=DATE:20260210
DTEND;VALUE=DATE:20260211
DTSTAMP:20260425T033309
CREATED:20260119T175740Z
LAST-MODIFIED:20260119T181520Z
UID:8551-1770681600-1770767999@saintmichaelsmuskegon.com
SUMMARY:No Mass
DESCRIPTION:Father is on vacation.
URL:https://saintmichaelsmuskegon.com/event/8551/
LOCATION:St. Michael’s Church\, 1716 Sixth Street\, Muskegon\, MI\, 49441\, United States
END:VEVENT
BEGIN:VEVENT
DTSTART;TZID=UTC:20260209T183000
DTEND;TZID=UTC:20260209T200000
DTSTAMP:20260425T033309
CREATED:20260119T191446Z
LAST-MODIFIED:20260119T191446Z
UID:8615-1770661800-1770667200@saintmichaelsmuskegon.com
SUMMARY:That Man Is You!
DESCRIPTION:TMIY (That Man Is You) will begin our next 13 weeks starting Monday January 19 from 6:30-8pm in conference room 3. Video\, handouts & discussion. No homework!
URL:https://saintmichaelsmuskegon.com/event/that-man-is-you-5/
LOCATION:St. Francis conference room 3
END:VEVENT
BEGIN:VEVENT
DTSTART;TZID=UTC:20260207T090000
DTEND;TZID=UTC:20260207T103000
DTSTAMP:20260425T033309
CREATED:20260119T190602Z
LAST-MODIFIED:20260119T190602Z
UID:8600-1770454800-1770460200@saintmichaelsmuskegon.com
SUMMARY:Men's Faith and Fellowship
DESCRIPTION:Men’s Faith & Fellowship Join us any Saturday mornings from 9- 10:30am in conference room 3 for video presentation followed by discussion\, fellowship and refreshments.
URL:https://saintmichaelsmuskegon.com/event/mens-faith-and-fellowship-3/
LOCATION:St. Francis conference room 3
END:VEVENT
BEGIN:VEVENT
DTSTART;TZID=UTC:20260206T080000
DTEND;TZID=UTC:20260206T100000
DTSTAMP:20260425T033309
CREATED:20251205T162841Z
LAST-MODIFIED:20260119T182147Z
UID:8452-1770364800-1770372000@saintmichaelsmuskegon.com
SUMMARY:First Friday Rosary\, Mass\, Devotion and Confessions
DESCRIPTION:8am -Rosary \n8:30am- Mass \n9am -Confession \n9-10am First Friday Devotions
URL:https://saintmichaelsmuskegon.com/event/first-friday-mass/
LOCATION:St. Michael’s Church\, 1716 Sixth Street\, Muskegon\, MI\, 49441\, United States
CATEGORIES:Friday Mass
END:VEVENT
BEGIN:VEVENT
DTSTART;TZID=UTC:20260205T183000
DTEND;TZID=UTC:20260205T200000
DTSTAMP:20260425T033309
CREATED:20260119T183001Z
LAST-MODIFIED:20260119T183001Z
UID:8579-1770316200-1770321600@saintmichaelsmuskegon.com
SUMMARY:Children's Faith Formation
DESCRIPTION:3yrs-5th grade. We meet in the Faith Formation Classrooms\, enter through  the main doors. Contact Liorah with questions: 231-286-6524 or youth@stfrancisns.org
URL:https://saintmichaelsmuskegon.com/event/childrens-faith-formation-4/
LOCATION:St. Francis School\, 2929 McCracken Street\, Norton Shores\, MI\, 49441\, United States
END:VEVENT
BEGIN:VEVENT
DTSTART;TZID=UTC:20260204T130000
DTEND;TZID=UTC:20260204T153000
DTSTAMP:20260425T033309
CREATED:20260107T135308Z
LAST-MODIFIED:20260107T135308Z
UID:8497-1770210000-1770219000@saintmichaelsmuskegon.com
SUMMARY:Bingo
DESCRIPTION:5 cents per card. Come on in and join the fun!
URL:https://saintmichaelsmuskegon.com/event/bingo-10/
LOCATION:St. Michael’s Family Center\, 1716 Sixth St\, Muskegon\, MI\, 49441\, United States
END:VEVENT
BEGIN:VEVENT
DTSTART;TZID=UTC:20260203T080000
DTEND;TZID=UTC:20260203T170000
DTSTAMP:20260425T033309
CREATED:20260119T180223Z
LAST-MODIFIED:20260119T182241Z
UID:8559-1770105600-1770138000@saintmichaelsmuskegon.com
SUMMARY:Confession and Mass with Throat Blessing
DESCRIPTION:Confession starts at 5pm\, Mass at 6pm.
URL:https://saintmichaelsmuskegon.com/event/confession-and-mass-2/
LOCATION:St. Michael’s Church\, 1716 Sixth Street\, Muskegon\, MI\, 49441\, United States
END:VEVENT
BEGIN:VEVENT
DTSTART;TZID=UTC:20260202T183000
DTEND;TZID=UTC:20260202T200000
DTSTAMP:20260425T033309
CREATED:20260119T191349Z
LAST-MODIFIED:20260119T191349Z
UID:8613-1770057000-1770062400@saintmichaelsmuskegon.com
SUMMARY:That Man Is You!
DESCRIPTION:TMIY (That Man Is You) will begin our next 13 weeks starting Monday January 19 from 6:30-8pm in conference room 3. Video\, handouts & discussion. No homework!
URL:https://saintmichaelsmuskegon.com/event/that-man-is-you-4/
LOCATION:St. Francis conference room 3
END:VEVENT
BEGIN:VEVENT
DTSTART;TZID=UTC:20260201T190000
DTEND;TZID=UTC:20260201T203000
DTSTAMP:20260425T033309
CREATED:20260119T183946Z
LAST-MODIFIED:20260119T183946Z
UID:8589-1769972400-1769977800@saintmichaelsmuskegon.com
SUMMARY:High School Youth Group
DESCRIPTION:We meet in the youth room in the back of the school\, enter through side door Contact Liorah with questions: 231-286-6524 or youth@stfrancisns.org
URL:https://saintmichaelsmuskegon.com/event/high-school-youth-group/
LOCATION:St. Francis Youth Room
END:VEVENT
BEGIN:VEVENT
DTSTART;TZID=UTC:20260201T120000
DTEND;TZID=UTC:20260201T140000
DTSTAMP:20260425T033309
CREATED:20260119T184556Z
LAST-MODIFIED:20260119T184556Z
UID:8594-1769947200-1769954400@saintmichaelsmuskegon.com
SUMMARY:OCIA
DESCRIPTION:Today’s topic- What is Lent? with Fr. Steve
URL:https://saintmichaelsmuskegon.com/event/ocia-2/
LOCATION:St. Francis conference room 3
END:VEVENT
BEGIN:VEVENT
DTSTART;TZID=UTC:20260201T110000
DTEND;TZID=UTC:20260201T120000
DTSTAMP:20260425T033309
CREATED:20260119T175238Z
LAST-MODIFIED:20260119T184748Z
UID:8547-1769943600-1769947200@saintmichaelsmuskegon.com
SUMMARY:Coffee and Donuts
DESCRIPTION:Socialize in the Family Center with fellow parishioners.
URL:https://saintmichaelsmuskegon.com/event/coffee-and-donuts/
LOCATION:St. Michael’s Family Center\, 1716 Sixth St\, Muskegon\, MI\, 49441\, United States
END:VEVENT
BEGIN:VEVENT
DTSTART;TZID=UTC:20260131T090000
DTEND;TZID=UTC:20260131T103000
DTSTAMP:20260425T033309
CREATED:20260119T190507Z
LAST-MODIFIED:20260119T190507Z
UID:8598-1769850000-1769855400@saintmichaelsmuskegon.com
SUMMARY:Men's Faith and Fellowship
DESCRIPTION:Men’s Faith & Fellowship Join us any Saturday mornings from 9- 10:30am in conference room 3 for video presentation followed by discussion\, fellowship and refreshments.
URL:https://saintmichaelsmuskegon.com/event/mens-faith-and-fellowship-2/
LOCATION:MI
END:VEVENT
BEGIN:VEVENT
DTSTART;TZID=UTC:20260131T080000
DTEND;TZID=UTC:20260131T180000
DTSTAMP:20260425T033309
CREATED:20260119T171541Z
LAST-MODIFIED:20260119T171834Z
UID:8538-1769846400-1769882400@saintmichaelsmuskegon.com
SUMMARY:Relate Adult Group- Painting Party
DESCRIPTION:A group focused on our shared love for God and seeking\nconnection\, friendship\, and encouragement with others.\nOpen to all 18+ After the 5pm mass.
URL:https://saintmichaelsmuskegon.com/event/painting-party-outings/
LOCATION:St. Francis School\, 2929 McCracken Street\, Norton Shores\, MI\, 49441\, United States
END:VEVENT
BEGIN:VEVENT
DTSTART;TZID=UTC:20260130T080000
DTEND;TZID=UTC:20260130T093000
DTSTAMP:20260425T033309
CREATED:20251205T162715Z
LAST-MODIFIED:20251205T162715Z
UID:8450-1769760000-1769765400@saintmichaelsmuskegon.com
SUMMARY:Friday Mass
DESCRIPTION:8am -Rosary \n8:30am- Mass \n9am -Confession
URL:https://saintmichaelsmuskegon.com/event/friday-mass-5/
LOCATION:MI
CATEGORIES:Friday Mass
END:VEVENT
BEGIN:VEVENT
DTSTART;TZID=UTC:20260129T183000
DTEND;TZID=UTC:20260129T200000
DTSTAMP:20260425T033309
CREATED:20260119T154343Z
LAST-MODIFIED:20260119T154343Z
UID:8530-1769711400-1769716800@saintmichaelsmuskegon.com
SUMMARY:Children's Faith Formation
DESCRIPTION:Thursday evenings from 6-8:30. Classes for children ages years to 5th grade are held in the school at St. Francis.
URL:https://saintmichaelsmuskegon.com/event/childrens-faith-formation-3/
LOCATION:St. Francis School\, 2929 McCracken Street\, Norton Shores\, MI\, 49441\, United States
END:VEVENT
BEGIN:VEVENT
DTSTART;TZID=UTC:20260128T190000
DTEND;TZID=UTC:20260128T200000
DTSTAMP:20260425T033309
CREATED:20260119T152816Z
LAST-MODIFIED:20260119T152916Z
UID:8521-1769626800-1769630400@saintmichaelsmuskegon.com
SUMMARY:Eucharistic Ministers Training
DESCRIPTION:Must register first at parish office. (231) 759-7074
URL:https://saintmichaelsmuskegon.com/event/eucharistic-ministers-training/
LOCATION:S. Francis Shepherds Hall
END:VEVENT
BEGIN:VEVENT
DTSTART;TZID=UTC:20260128T080000
DTEND;TZID=UTC:20260128T093000
DTSTAMP:20260425T033309
CREATED:20260128T175342Z
LAST-MODIFIED:20260128T175348Z
UID:8641-1769587200-1769592600@saintmichaelsmuskegon.com
SUMMARY:Rosary\, Mass\, Confession\, Stations of the Cross
DESCRIPTION:Rosary – 8am \nMass – 8:30 \nConfession – 9:oo \nStations of the Cross – 9am
URL:https://saintmichaelsmuskegon.com/event/rosary-mass-confession-stations-of-the-cross/
LOCATION:St. Michael’s Church\, 1716 Sixth Street\, Muskegon\, MI\, 49441\, United States
END:VEVENT
END:VCALENDAR