BEGIN:VCALENDAR
VERSION:2.0
PRODID:-//SAINT MICHAEL - ECPv6.15.20//NONSGML v1.0//EN
CALSCALE:GREGORIAN
METHOD:PUBLISH
X-WR-CALNAME:SAINT MICHAEL
X-ORIGINAL-URL:https://saintmichaelsmuskegon.com
X-WR-CALDESC:Events for SAINT MICHAEL
REFRESH-INTERVAL;VALUE=DURATION:PT1H
X-Robots-Tag:noindex
X-PUBLISHED-TTL:PT1H
BEGIN:VTIMEZONE
TZID:UTC
BEGIN:STANDARD
TZOFFSETFROM:+0000
TZOFFSETTO:+0000
TZNAME:UTC
DTSTART:20240101T000000
END:STANDARD
END:VTIMEZONE
BEGIN:VEVENT
DTSTART;TZID=UTC:20250930T080000
DTEND;TZID=UTC:20250930T170000
DTSTAMP:20260425T035509
CREATED:20250924T130656Z
LAST-MODIFIED:20250924T130656Z
UID:8327-1759219200-1759251600@saintmichaelsmuskegon.com
SUMMARY:No evening mass
DESCRIPTION:Father is on vacation.
URL:https://saintmichaelsmuskegon.com/event/no-evening-mass/
END:VEVENT
BEGIN:VEVENT
DTSTART;VALUE=DATE:20250929
DTEND;VALUE=DATE:20250930
DTSTAMP:20260425T035509
CREATED:20250922T142141Z
LAST-MODIFIED:20250922T142141Z
UID:8325-1759104000-1759190399@saintmichaelsmuskegon.com
SUMMARY:St. Michael the Archangel Feast Day
DESCRIPTION:
URL:https://saintmichaelsmuskegon.com/event/st-michael-the-archangel-feast-day/
END:VEVENT
BEGIN:VEVENT
DTSTART;TZID=UTC:20250926T083000
DTEND;TZID=UTC:20250926T083000
DTSTAMP:20260425T035509
CREATED:20250905T144240Z
LAST-MODIFIED:20250905T144240Z
UID:8276-1758875400-1758875400@saintmichaelsmuskegon.com
SUMMARY:No morning mass or confessions today
DESCRIPTION:
URL:https://saintmichaelsmuskegon.com/event/no-morning-mass-or-confessions-today/
END:VEVENT
BEGIN:VEVENT
DTSTART;TZID=UTC:20250923T170000
DTEND;TZID=UTC:20250923T170000
DTSTAMP:20260425T035509
CREATED:20250905T144132Z
LAST-MODIFIED:20250905T144132Z
UID:8273-1758646800-1758646800@saintmichaelsmuskegon.com
SUMMARY:No evening mass today.
DESCRIPTION:
URL:https://saintmichaelsmuskegon.com/event/no-evening-mass-today/
END:VEVENT
BEGIN:VEVENT
DTSTART;TZID=UTC:20250917T130000
DTEND;TZID=UTC:20250917T150000
DTSTAMP:20260425T035509
CREATED:20250910T125443Z
LAST-MODIFIED:20250910T125443Z
UID:8282-1758114000-1758121200@saintmichaelsmuskegon.com
SUMMARY:Bingo
DESCRIPTION:
URL:https://saintmichaelsmuskegon.com/event/bingo/
LOCATION:St. Michael’s Family Center\, 1716 Sixth St\, Muskegon\, MI\, 49441\, United States
END:VEVENT
BEGIN:VEVENT
DTSTART;TZID=UTC:20250907T110000
DTEND;TZID=UTC:20250907T120000
DTSTAMP:20260425T035509
CREATED:20250905T144416Z
LAST-MODIFIED:20250909T170536Z
UID:8278-1757242800-1757246400@saintmichaelsmuskegon.com
SUMMARY:Coffee and Donuts after Mass
DESCRIPTION:Join us in the Family Center for food and fellowship.
URL:https://saintmichaelsmuskegon.com/event/coffe-and-donuts-after-mass/
END:VEVENT
BEGIN:VEVENT
DTSTART;TZID=UTC:20250831T090000
DTEND;TZID=UTC:20250831T100000
DTSTAMP:20260425T035509
CREATED:20250818T172904Z
LAST-MODIFIED:20250818T172904Z
UID:8231-1756630800-1756634400@saintmichaelsmuskegon.com
SUMMARY:Polish Folk Mass
DESCRIPTION:The 9:00 mass will be a Polish Folk Mass to Celebrate the Polish Festival in Muskegon.
URL:https://saintmichaelsmuskegon.com/event/polish-folk-mass/
END:VEVENT
BEGIN:VEVENT
DTSTART;TZID=UTC:20250817T120000
DTEND;TZID=UTC:20250817T140000
DTSTAMP:20260425T035509
CREATED:20250811T143752Z
LAST-MODIFIED:20250811T143752Z
UID:8202-1755432000-1755439200@saintmichaelsmuskegon.com
SUMMARY:Our St. Francis and St. Michael Family Picnic
DESCRIPTION:
URL:https://saintmichaelsmuskegon.com/event/our-st-francis-and-st-michael-family-picnic/
LOCATION:St. Francis De Sales Church\, 2929 McCracken St.\, Norton Shores\, MI\, United States
END:VEVENT
BEGIN:VEVENT
DTSTART;TZID=UTC:20250816T120000
DTEND;TZID=UTC:20250816T140000
DTSTAMP:20260425T035509
CREATED:20250808T152141Z
LAST-MODIFIED:20250815T140614Z
UID:8150-1755345600-1755352800@saintmichaelsmuskegon.com
SUMMARY:Parish Picnic
DESCRIPTION:St Francis/St. Michael Parish Picnic
URL:https://saintmichaelsmuskegon.com/event/parish-picnic/
END:VEVENT
BEGIN:VEVENT
DTSTART;TZID=UTC:20250816T090000
DTEND;TZID=UTC:20250816T103000
DTSTAMP:20260425T035509
CREATED:20250811T143337Z
LAST-MODIFIED:20250811T143337Z
UID:8199-1755334800-1755340200@saintmichaelsmuskegon.com
SUMMARY:Morning Glory Retreat
DESCRIPTION:
URL:https://saintmichaelsmuskegon.com/event/morning-glory-retreat/
LOCATION:St. Michael’s Family Center\, 1716 Sixth St\, Muskegon\, MI\, 49441\, United States
END:VEVENT
BEGIN:VEVENT
DTSTART;TZID=UTC:20250815T190000
DTEND;TZID=UTC:20250815T203000
DTSTAMP:20260425T035509
CREATED:20250811T142743Z
LAST-MODIFIED:20250811T142743Z
UID:8197-1755284400-1755289800@saintmichaelsmuskegon.com
SUMMARY:Youth Group
DESCRIPTION:
URL:https://saintmichaelsmuskegon.com/event/youth-group/
LOCATION:St. Francis Youth Room
END:VEVENT
BEGIN:VEVENT
DTSTART;TZID=UTC:20250814T180000
DTEND;TZID=UTC:20250814T200000
DTSTAMP:20260425T035509
CREATED:20250811T142531Z
LAST-MODIFIED:20250811T142641Z
UID:8194-1755194400-1755201600@saintmichaelsmuskegon.com
SUMMARY:Women's Bible Study
DESCRIPTION:Conference room #2
URL:https://saintmichaelsmuskegon.com/event/womens-bible-study/
LOCATION:St. Francis De Sales Church\, 2929 McCracken St.\, Norton Shores\, MI\, United States
END:VEVENT
BEGIN:VEVENT
DTSTART;TZID=UTC:20250814T180000
DTEND;TZID=UTC:20250814T193000
DTSTAMP:20260425T035509
CREATED:20250811T142446Z
LAST-MODIFIED:20250811T142446Z
UID:8192-1755194400-1755199800@saintmichaelsmuskegon.com
SUMMARY:Coin Club
DESCRIPTION:
URL:https://saintmichaelsmuskegon.com/event/coin-club/
END:VEVENT
BEGIN:VEVENT
DTSTART;TZID=UTC:20250814T090000
DTEND;TZID=UTC:20250814T110000
DTSTAMP:20260425T035509
CREATED:20250811T141624Z
LAST-MODIFIED:20250811T141624Z
UID:8190-1755162000-1755169200@saintmichaelsmuskegon.com
SUMMARY:TOPS
DESCRIPTION:Conference room #3
URL:https://saintmichaelsmuskegon.com/event/tops/
END:VEVENT
BEGIN:VEVENT
DTSTART;TZID=UTC:20250813T183000
DTEND;TZID=UTC:20250813T203000
DTSTAMP:20260425T035509
CREATED:20250811T141509Z
LAST-MODIFIED:20250811T141509Z
UID:8188-1755109800-1755117000@saintmichaelsmuskegon.com
SUMMARY:Middle School Youth Group
DESCRIPTION:
URL:https://saintmichaelsmuskegon.com/event/middle-school-youth-group/
END:VEVENT
BEGIN:VEVENT
DTSTART;TZID=UTC:20250813T140000
DTEND;TZID=UTC:20250813T160000
DTSTAMP:20260425T035509
CREATED:20250811T141201Z
LAST-MODIFIED:20250811T142343Z
UID:8183-1755093600-1755100800@saintmichaelsmuskegon.com
SUMMARY:Euchre
DESCRIPTION:
URL:https://saintmichaelsmuskegon.com/event/euchre/
LOCATION:St. Francis De Sales Church\, 2929 McCracken St.\, Norton Shores\, MI\, United States
END:VEVENT
BEGIN:VEVENT
DTSTART;TZID=UTC:20250811T100000
DTEND;TZID=UTC:20250811T103000
DTSTAMP:20260425T035509
CREATED:20250811T140704Z
LAST-MODIFIED:20250811T140817Z
UID:8166-1754906400-1754908200@saintmichaelsmuskegon.com
SUMMARY:Mary Monday Rosary
DESCRIPTION:
URL:https://saintmichaelsmuskegon.com/event/mary-monday-rosary/
LOCATION:Ft. Francis Marian Chapel\, 49441
END:VEVENT
BEGIN:VEVENT
DTSTART;TZID=UTC:20250811T090000
DTEND;TZID=UTC:20250811T103000
DTSTAMP:20260425T035509
CREATED:20250811T140943Z
LAST-MODIFIED:20250811T140943Z
UID:8179-1754902800-1754908200@saintmichaelsmuskegon.com
SUMMARY:Women's Guild
DESCRIPTION:
URL:https://saintmichaelsmuskegon.com/event/womens-guild/
END:VEVENT
END:VCALENDAR