BEGIN:VCALENDAR
VERSION:2.0
PRODID:-//SAINT MICHAEL - ECPv6.15.20//NONSGML v1.0//EN
CALSCALE:GREGORIAN
METHOD:PUBLISH
X-ORIGINAL-URL:https://saintmichaelsmuskegon.com
X-WR-CALDESC:Events for SAINT MICHAEL
REFRESH-INTERVAL;VALUE=DURATION:PT1H
X-Robots-Tag:noindex
X-PUBLISHED-TTL:PT1H
BEGIN:VTIMEZONE
TZID:UTC
BEGIN:STANDARD
TZOFFSETFROM:+0000
TZOFFSETTO:+0000
TZNAME:UTC
DTSTART:20250101T000000
END:STANDARD
END:VTIMEZONE
BEGIN:VEVENT
DTSTART;TZID=UTC:20260605T083000
DTEND;TZID=UTC:20260605T100000
DTSTAMP:20260424T171640
CREATED:20260413T144927Z
LAST-MODIFIED:20260413T152533Z
UID:8785-1780648200-1780653600@saintmichaelsmuskegon.com
SUMMARY:Rosary\, Mass\, Confession First Friday Devotions
DESCRIPTION:Mass – 8:30 \nEucharistic Adoration 9-9:45 \n9:45-10- Devotions with incense \nConfession 9-9:30
URL:https://saintmichaelsmuskegon.com/event/rosary-mass-and-confession-11/
LOCATION:St. Michael’s Church\, 1716 Sixth Street\, Muskegon\, MI\, 49441\, United States
END:VEVENT
END:VCALENDAR