BEGIN:VCALENDAR
VERSION:2.0
PRODID:-//SAINT MICHAEL - ECPv6.15.20//NONSGML v1.0//EN
CALSCALE:GREGORIAN
METHOD:PUBLISH
X-ORIGINAL-URL:https://saintmichaelsmuskegon.com
X-WR-CALDESC:Events for SAINT MICHAEL
REFRESH-INTERVAL;VALUE=DURATION:PT1H
X-Robots-Tag:noindex
X-PUBLISHED-TTL:PT1H
BEGIN:VTIMEZONE
TZID:UTC
BEGIN:STANDARD
TZOFFSETFROM:+0000
TZOFFSETTO:+0000
TZNAME:UTC
DTSTART:20250101T000000
END:STANDARD
END:VTIMEZONE
BEGIN:VEVENT
DTSTART;TZID=UTC:20260603T130000
DTEND;TZID=UTC:20260603T153000
DTSTAMP:20260424T171638
CREATED:20260413T143253Z
LAST-MODIFIED:20260413T143253Z
UID:8771-1780491600-1780500600@saintmichaelsmuskegon.com
SUMMARY:Bingo
DESCRIPTION:5 cents per card
URL:https://saintmichaelsmuskegon.com/event/bingo-14/
LOCATION:St. Michael’s School
END:VEVENT
END:VCALENDAR