BEGIN:VCALENDAR
VERSION:2.0
PRODID:-//SAINT MICHAEL - ECPv6.15.20//NONSGML v1.0//EN
CALSCALE:GREGORIAN
METHOD:PUBLISH
X-WR-CALNAME:SAINT MICHAEL
X-ORIGINAL-URL:https://saintmichaelsmuskegon.com
X-WR-CALDESC:Events for SAINT MICHAEL
REFRESH-INTERVAL;VALUE=DURATION:PT1H
X-Robots-Tag:noindex
X-PUBLISHED-TTL:PT1H
BEGIN:VTIMEZONE
TZID:UTC
BEGIN:STANDARD
TZOFFSETFROM:+0000
TZOFFSETTO:+0000
TZNAME:UTC
DTSTART:20250101T000000
END:STANDARD
END:VTIMEZONE
BEGIN:VEVENT
DTSTART;VALUE=DATE:20260406
DTEND;VALUE=DATE:20260411
DTSTAMP:20260424T160718
CREATED:20260330T131301Z
LAST-MODIFIED:20260330T140333Z
UID:8741-1775433600-1775865599@saintmichaelsmuskegon.com
SUMMARY:Father Steve on retreat this week
DESCRIPTION:
URL:https://saintmichaelsmuskegon.com/event/father-steve-on-retreat-this-week/
END:VEVENT
BEGIN:VEVENT
DTSTART;TZID=UTC:20260410T080000
DTEND;TZID=UTC:20260410T213000
DTSTAMP:20260424T160718
CREATED:20260223T155710Z
LAST-MODIFIED:20260330T140535Z
UID:8715-1775808000-1775856600@saintmichaelsmuskegon.com
SUMMARY:No Rosary\, Mass or Confession
DESCRIPTION:
URL:https://saintmichaelsmuskegon.com/event/rosary-mass-and-confession-2/
LOCATION:St. Michael’s Church\, 1716 Sixth Street\, Muskegon\, MI\, 49441\, United States
END:VEVENT
END:VCALENDAR