BEGIN:VCALENDAR
VERSION:2.0
PRODID:-//SAINT MICHAEL - ECPv6.15.20//NONSGML v1.0//EN
CALSCALE:GREGORIAN
METHOD:PUBLISH
X-ORIGINAL-URL:https://saintmichaelsmuskegon.com
X-WR-CALDESC:Events for SAINT MICHAEL
REFRESH-INTERVAL;VALUE=DURATION:PT1H
X-Robots-Tag:noindex
X-PUBLISHED-TTL:PT1H
BEGIN:VTIMEZONE
TZID:UTC
BEGIN:STANDARD
TZOFFSETFROM:+0000
TZOFFSETTO:+0000
TZNAME:UTC
DTSTART:20250101T000000
END:STANDARD
END:VTIMEZONE
BEGIN:VEVENT
DTSTART;VALUE=DATE:20260405
DTEND;VALUE=DATE:20260406
DTSTAMP:20260424T155743
CREATED:20260223T153533Z
LAST-MODIFIED:20260223T154046Z
UID:8702-1775347200-1775433599@saintmichaelsmuskegon.com
SUMMARY:Easter Mass Times
DESCRIPTION:7am at St Michael \n9am at St. Michael \n11am at St. Francis
URL:https://saintmichaelsmuskegon.com/event/easter-mass-times/
END:VEVENT
END:VCALENDAR