BEGIN:VCALENDAR
VERSION:2.0
PRODID:-//SAINT MICHAEL - ECPv6.15.20//NONSGML v1.0//EN
CALSCALE:GREGORIAN
METHOD:PUBLISH
X-WR-CALNAME:SAINT MICHAEL
X-ORIGINAL-URL:https://saintmichaelsmuskegon.com
X-WR-CALDESC:Events for SAINT MICHAEL
REFRESH-INTERVAL;VALUE=DURATION:PT1H
X-Robots-Tag:noindex
X-PUBLISHED-TTL:PT1H
BEGIN:VTIMEZONE
TZID:UTC
BEGIN:STANDARD
TZOFFSETFROM:+0000
TZOFFSETTO:+0000
TZNAME:UTC
DTSTART:20250101T000000
END:STANDARD
END:VTIMEZONE
BEGIN:VEVENT
DTSTART;TZID=UTC:20260404T143000
DTEND;TZID=UTC:20260404T170000
DTSTAMP:20260424T154154
CREATED:20260223T153332Z
LAST-MODIFIED:20260223T153920Z
UID:8699-1775313000-1775322000@saintmichaelsmuskegon.com
SUMMARY:Easter Basket Blessing   Divine Mercy Chaplet   Confessions  Vigil mass at St. Francis
DESCRIPTION:Easter Basket Blessing – 2:30 \nDivine Mercy Chaplet 3pm \nConfession 3-4pm \nEaster Vigil Mass 9pm at St. Francis
URL:https://saintmichaelsmuskegon.com/event/easter-basket-blessing-divine-mercy-chaplet-confessions/
LOCATION:St. Michael’s Church\, 1716 Sixth Street\, Muskegon\, MI\, 49441\, United States
END:VEVENT
END:VCALENDAR