BEGIN:VCALENDAR
VERSION:2.0
PRODID:-//SAINT MICHAEL - ECPv6.15.20//NONSGML v1.0//EN
CALSCALE:GREGORIAN
METHOD:PUBLISH
X-ORIGINAL-URL:https://saintmichaelsmuskegon.com
X-WR-CALDESC:Events for SAINT MICHAEL
REFRESH-INTERVAL;VALUE=DURATION:PT1H
X-Robots-Tag:noindex
X-PUBLISHED-TTL:PT1H
BEGIN:VTIMEZONE
TZID:UTC
BEGIN:STANDARD
TZOFFSETFROM:+0000
TZOFFSETTO:+0000
TZNAME:UTC
DTSTART:20250101T000000
END:STANDARD
END:VTIMEZONE
BEGIN:VEVENT
DTSTART;TZID=UTC:20260403T143000
DTEND;TZID=UTC:20260403T170000
DTSTAMP:20260424T154338
CREATED:20260223T153005Z
LAST-MODIFIED:20260223T153005Z
UID:8697-1775226600-1775235600@saintmichaelsmuskegon.com
SUMMARY:Confession  Divine Mercy Chaplet  Stations of the Cross  Liturgy of the Lord's Passion
DESCRIPTION:Confession-2:30-3:30 \nDivine Mercy Chaplet- 3pm \nStations of the cross 3:30 \nLiturgy of the Lord’s Passion 4:00
URL:https://saintmichaelsmuskegon.com/event/confession-divine-mercy-chaplet-stations-of-the-cross-liturgy-of-the-lords-passion/
LOCATION:St. Michael’s Church\, 1716 Sixth Street\, Muskegon\, MI\, 49441\, United States
END:VEVENT
END:VCALENDAR