BEGIN:VCALENDAR
VERSION:2.0
PRODID:-//SAINT MICHAEL - ECPv6.15.20//NONSGML v1.0//EN
CALSCALE:GREGORIAN
METHOD:PUBLISH
X-ORIGINAL-URL:https://saintmichaelsmuskegon.com
X-WR-CALDESC:Events for SAINT MICHAEL
REFRESH-INTERVAL;VALUE=DURATION:PT1H
X-Robots-Tag:noindex
X-PUBLISHED-TTL:PT1H
BEGIN:VTIMEZONE
TZID:UTC
BEGIN:STANDARD
TZOFFSETFROM:+0000
TZOFFSETTO:+0000
TZNAME:UTC
DTSTART:20250101T000000
END:STANDARD
END:VTIMEZONE
BEGIN:VEVENT
DTSTART;TZID=UTC:20260329T123000
DTEND;TZID=UTC:20260329T133000
DTSTAMP:20260424T154317
CREATED:20260211T154757Z
LAST-MODIFIED:20260211T154839Z
UID:8677-1774787400-1774791000@saintmichaelsmuskegon.com
SUMMARY:Gorzkie Zale
DESCRIPTION:The Church in Eastern Europe at one time had all worship inLatin. Even the passion play and Mary’s Sorrow was in a language that the people did not understand. One parish in Poland decided to convert these into Polish and sang them so all could understand. This tradition grew and found its way into many churches and languages. We continue this tradition here every Sunday during Lent. The songs are sung in Polish\, but English words for translation are provided. All are welcome to join in this beautiful continuation of a way to reflect on the passion of Christ and of Mary’s Sorrow.
URL:https://saintmichaelsmuskegon.com/event/8677/
LOCATION:St. Michael’s Church\, 1716 Sixth Street\, Muskegon\, MI\, 49441\, United States
END:VEVENT
END:VCALENDAR