BEGIN:VCALENDAR
VERSION:2.0
PRODID:-//SAINT MICHAEL - ECPv6.15.20//NONSGML v1.0//EN
CALSCALE:GREGORIAN
METHOD:PUBLISH
X-ORIGINAL-URL:https://saintmichaelsmuskegon.com
X-WR-CALDESC:Events for SAINT MICHAEL
REFRESH-INTERVAL;VALUE=DURATION:PT1H
X-Robots-Tag:noindex
X-PUBLISHED-TTL:PT1H
BEGIN:VTIMEZONE
TZID:UTC
BEGIN:STANDARD
TZOFFSETFROM:+0000
TZOFFSETTO:+0000
TZNAME:UTC
DTSTART:20250101T000000
END:STANDARD
END:VTIMEZONE
BEGIN:VEVENT
DTSTART;TZID=UTC:20260328T180000
DTEND;TZID=UTC:20260328T193000
DTSTAMP:20260424T171705
CREATED:20260128T173251Z
LAST-MODIFIED:20260128T173449Z
UID:8627-1774720800-1774726200@saintmichaelsmuskegon.com
SUMMARY:Relate Group- Painting Party
DESCRIPTION:Painting Party! \nRelate group-   A group focused on our shared love for God and seeking connection\, friendship\, and encouragement with others. Open to all 18+
URL:https://saintmichaelsmuskegon.com/event/painting-party/
LOCATION:St. Francis Youth Room
END:VEVENT
END:VCALENDAR