BEGIN:VCALENDAR
VERSION:2.0
PRODID:-//SAINT MICHAEL - ECPv6.15.20//NONSGML v1.0//EN
CALSCALE:GREGORIAN
METHOD:PUBLISH
X-WR-CALNAME:SAINT MICHAEL
X-ORIGINAL-URL:https://saintmichaelsmuskegon.com
X-WR-CALDESC:Events for SAINT MICHAEL
REFRESH-INTERVAL;VALUE=DURATION:PT1H
X-Robots-Tag:noindex
X-PUBLISHED-TTL:PT1H
BEGIN:VTIMEZONE
TZID:UTC
BEGIN:STANDARD
TZOFFSETFROM:+0000
TZOFFSETTO:+0000
TZNAME:UTC
DTSTART:20250101T000000
END:STANDARD
END:VTIMEZONE
BEGIN:VEVENT
DTSTART;TZID=UTC:20260327T080000
DTEND;TZID=UTC:20260327T093000
DTSTAMP:20260424T172602
CREATED:20260128T180442Z
LAST-MODIFIED:20260128T180621Z
UID:8644-1774598400-1774603800@saintmichaelsmuskegon.com
SUMMARY:Rosary\, Mass\, Confession\, Stations of the Cross
DESCRIPTION:Rosary – 8am \nMass – 8:30 \nConfession – 9:oo \nStations of the Cross – 9am
URL:https://saintmichaelsmuskegon.com/event/rosary-mass-confession-stations-of-the-cross-2/
END:VEVENT
END:VCALENDAR