BEGIN:VCALENDAR
VERSION:2.0
PRODID:-//SAINT MICHAEL - ECPv6.15.20//NONSGML v1.0//EN
CALSCALE:GREGORIAN
METHOD:PUBLISH
X-WR-CALNAME:SAINT MICHAEL
X-ORIGINAL-URL:https://saintmichaelsmuskegon.com
X-WR-CALDESC:Events for SAINT MICHAEL
REFRESH-INTERVAL;VALUE=DURATION:PT1H
X-Robots-Tag:noindex
X-PUBLISHED-TTL:PT1H
BEGIN:VTIMEZONE
TZID:UTC
BEGIN:STANDARD
TZOFFSETFROM:+0000
TZOFFSETTO:+0000
TZNAME:UTC
DTSTART:20250101T000000
END:STANDARD
END:VTIMEZONE
BEGIN:VEVENT
DTSTART;TZID=UTC:20260223T080000
DTEND;TZID=UTC:20260223T093000
DTSTAMP:20260424T191525
CREATED:20260223T155856Z
LAST-MODIFIED:20260223T155856Z
UID:8719-1771833600-1771839000@saintmichaelsmuskegon.com
SUMMARY:Rosary\, Mass and Confession
DESCRIPTION:Rosary- 8:00 \nMass 8:30 \nConfession 9am
URL:https://saintmichaelsmuskegon.com/event/rosary-mass-and-confession-4/
LOCATION:St. Michael’s Church\, 1716 Sixth Street\, Muskegon\, MI\, 49441\, United States
END:VEVENT
BEGIN:VEVENT
DTSTART;TZID=UTC:20260223T183000
DTEND;TZID=UTC:20260223T200000
DTSTAMP:20260424T191525
CREATED:20260119T191535Z
LAST-MODIFIED:20260119T191535Z
UID:8617-1771871400-1771876800@saintmichaelsmuskegon.com
SUMMARY:That Man Is You!
DESCRIPTION:TMIY (That Man Is You) will begin our next 13 weeks starting Monday January 19 from 6:30-8pm in conference room 3. Video\, handouts & discussion. No homework!
URL:https://saintmichaelsmuskegon.com/event/that-man-is-you-6/
LOCATION:St. Francis conference room 3
END:VEVENT
END:VCALENDAR