BEGIN:VCALENDAR
VERSION:2.0
PRODID:-//SAINT MICHAEL - ECPv6.15.20//NONSGML v1.0//EN
CALSCALE:GREGORIAN
METHOD:PUBLISH
X-ORIGINAL-URL:https://saintmichaelsmuskegon.com
X-WR-CALDESC:Events for SAINT MICHAEL
REFRESH-INTERVAL;VALUE=DURATION:PT1H
X-Robots-Tag:noindex
X-PUBLISHED-TTL:PT1H
BEGIN:VTIMEZONE
TZID:UTC
BEGIN:STANDARD
TZOFFSETFROM:+0000
TZOFFSETTO:+0000
TZNAME:UTC
DTSTART:20250101T000000
END:STANDARD
END:VTIMEZONE
BEGIN:VEVENT
DTSTART;TZID=UTC:20260220T080000
DTEND;TZID=UTC:20260220T093000
DTSTAMP:20260424T190720
CREATED:20260119T180650Z
LAST-MODIFIED:20260119T181948Z
UID:8564-1771574400-1771579800@saintmichaelsmuskegon.com
SUMMARY:Rosary\, Mass\, Confession\, Stations of the Cross
DESCRIPTION:Rosary at 8am\, Mass at 8:30\, Confession at 9:oo\, Stations at 9:00
URL:https://saintmichaelsmuskegon.com/event/rosary-mass-and-confessions/
END:VEVENT
BEGIN:VEVENT
DTSTART;TZID=UTC:20260220T110000
DTEND;TZID=UTC:20260220T120000
DTSTAMP:20260424T190720
CREATED:20260211T155506Z
LAST-MODIFIED:20260211T155506Z
UID:8682-1771585200-1771588800@saintmichaelsmuskegon.com
SUMMARY:Funeral for Mary Ann Sweet
DESCRIPTION:Funeral luncheon to follow in Family Center
URL:https://saintmichaelsmuskegon.com/event/funeral-for-mary-ann-sweet/
LOCATION:St. Michael’s Church\, 1716 Sixth Street\, Muskegon\, MI\, 49441\, United States
END:VEVENT
END:VCALENDAR