BEGIN:VCALENDAR
VERSION:2.0
PRODID:-//SAINT MICHAEL - ECPv6.15.20//NONSGML v1.0//EN
CALSCALE:GREGORIAN
METHOD:PUBLISH
X-ORIGINAL-URL:https://saintmichaelsmuskegon.com
X-WR-CALDESC:Events for SAINT MICHAEL
REFRESH-INTERVAL;VALUE=DURATION:PT1H
X-Robots-Tag:noindex
X-PUBLISHED-TTL:PT1H
BEGIN:VTIMEZONE
TZID:UTC
BEGIN:STANDARD
TZOFFSETFROM:+0000
TZOFFSETTO:+0000
TZNAME:UTC
DTSTART:20250101T000000
END:STANDARD
END:VTIMEZONE
BEGIN:VEVENT
DTSTART;TZID=UTC:20260218T083000
DTEND;TZID=UTC:20260218T213000
DTSTAMP:20260424T185737
CREATED:20260211T153448Z
LAST-MODIFIED:20260211T153850Z
UID:8665-1771403400-1771450200@saintmichaelsmuskegon.com
SUMMARY:Ash Wednesday Mass
DESCRIPTION:
URL:https://saintmichaelsmuskegon.com/event/ash-wednesday-mass/
LOCATION:St. Michael’s Church\, 1716 Sixth Street\, Muskegon\, MI\, 49441\, United States
END:VEVENT
BEGIN:VEVENT
DTSTART;TZID=UTC:20260218T130000
DTEND;TZID=UTC:20260218T153000
DTSTAMP:20260424T185737
CREATED:20260119T173905Z
LAST-MODIFIED:20260119T173905Z
UID:8545-1771419600-1771428600@saintmichaelsmuskegon.com
SUMMARY:Bingo
DESCRIPTION:
URL:https://saintmichaelsmuskegon.com/event/bingo-11/
LOCATION:St. Michael’s Family Center\, 1716 Sixth St\, Muskegon\, MI\, 49441\, United States
END:VEVENT
BEGIN:VEVENT
DTSTART;TZID=UTC:20260218T180000
DTEND;TZID=UTC:20260218T190000
DTSTAMP:20260424T185737
CREATED:20260128T194512Z
LAST-MODIFIED:20260128T195102Z
UID:8648-1771437600-1771441200@saintmichaelsmuskegon.com
SUMMARY:Ash Wednesday Mass at St. Francis
DESCRIPTION:
URL:https://saintmichaelsmuskegon.com/event/ash-wednesday-mass-at-st-francis/
LOCATION:St. Francis De Sales Church\, 2929 McCracken St.\, Norton Shores\, MI\, United States
END:VEVENT
END:VCALENDAR