BEGIN:VCALENDAR
VERSION:2.0
PRODID:-//SAINT MICHAEL - ECPv6.15.20//NONSGML v1.0//EN
CALSCALE:GREGORIAN
METHOD:PUBLISH
X-WR-CALNAME:SAINT MICHAEL
X-ORIGINAL-URL:https://saintmichaelsmuskegon.com
X-WR-CALDESC:Events for SAINT MICHAEL
REFRESH-INTERVAL;VALUE=DURATION:PT1H
X-Robots-Tag:noindex
X-PUBLISHED-TTL:PT1H
BEGIN:VTIMEZONE
TZID:UTC
BEGIN:STANDARD
TZOFFSETFROM:+0000
TZOFFSETTO:+0000
TZNAME:UTC
DTSTART:20250101T000000
END:STANDARD
END:VTIMEZONE
BEGIN:VEVENT
DTSTART;TZID=UTC:20260204T130000
DTEND;TZID=UTC:20260204T153000
DTSTAMP:20260424T191525
CREATED:20260107T135308Z
LAST-MODIFIED:20260107T135308Z
UID:8497-1770210000-1770219000@saintmichaelsmuskegon.com
SUMMARY:Bingo
DESCRIPTION:5 cents per card. Come on in and join the fun!
URL:https://saintmichaelsmuskegon.com/event/bingo-10/
LOCATION:St. Michael’s Family Center\, 1716 Sixth St\, Muskegon\, MI\, 49441\, United States
END:VEVENT
END:VCALENDAR