BEGIN:VCALENDAR
VERSION:2.0
PRODID:-//SAINT MICHAEL - ECPv6.15.20//NONSGML v1.0//EN
CALSCALE:GREGORIAN
METHOD:PUBLISH
X-ORIGINAL-URL:https://saintmichaelsmuskegon.com
X-WR-CALDESC:Events for SAINT MICHAEL
REFRESH-INTERVAL;VALUE=DURATION:PT1H
X-Robots-Tag:noindex
X-PUBLISHED-TTL:PT1H
BEGIN:VTIMEZONE
TZID:UTC
BEGIN:STANDARD
TZOFFSETFROM:+0000
TZOFFSETTO:+0000
TZNAME:UTC
DTSTART:20250101T000000
END:STANDARD
END:VTIMEZONE
BEGIN:VEVENT
DTSTART;TZID=UTC:20260201T110000
DTEND;TZID=UTC:20260201T120000
DTSTAMP:20260424T190721
CREATED:20260119T175238Z
LAST-MODIFIED:20260119T184748Z
UID:8547-1769943600-1769947200@saintmichaelsmuskegon.com
SUMMARY:Coffee and Donuts
DESCRIPTION:Socialize in the Family Center with fellow parishioners.
URL:https://saintmichaelsmuskegon.com/event/coffee-and-donuts/
LOCATION:St. Michael’s Family Center\, 1716 Sixth St\, Muskegon\, MI\, 49441\, United States
END:VEVENT
BEGIN:VEVENT
DTSTART;TZID=UTC:20260201T120000
DTEND;TZID=UTC:20260201T140000
DTSTAMP:20260424T190721
CREATED:20260119T184556Z
LAST-MODIFIED:20260119T184556Z
UID:8594-1769947200-1769954400@saintmichaelsmuskegon.com
SUMMARY:OCIA
DESCRIPTION:Today’s topic- What is Lent? with Fr. Steve
URL:https://saintmichaelsmuskegon.com/event/ocia-2/
LOCATION:St. Francis conference room 3
END:VEVENT
BEGIN:VEVENT
DTSTART;TZID=UTC:20260201T190000
DTEND;TZID=UTC:20260201T203000
DTSTAMP:20260424T190721
CREATED:20260119T183946Z
LAST-MODIFIED:20260119T183946Z
UID:8589-1769972400-1769977800@saintmichaelsmuskegon.com
SUMMARY:High School Youth Group
DESCRIPTION:We meet in the youth room in the back of the school\, enter through side door Contact Liorah with questions: 231-286-6524 or youth@stfrancisns.org
URL:https://saintmichaelsmuskegon.com/event/high-school-youth-group/
LOCATION:St. Francis Youth Room
END:VEVENT
END:VCALENDAR