BEGIN:VCALENDAR
VERSION:2.0
PRODID:-//SAINT MICHAEL - ECPv6.15.20//NONSGML v1.0//EN
CALSCALE:GREGORIAN
METHOD:PUBLISH
X-WR-CALNAME:SAINT MICHAEL
X-ORIGINAL-URL:https://saintmichaelsmuskegon.com
X-WR-CALDESC:Events for SAINT MICHAEL
REFRESH-INTERVAL;VALUE=DURATION:PT1H
X-Robots-Tag:noindex
X-PUBLISHED-TTL:PT1H
BEGIN:VTIMEZONE
TZID:UTC
BEGIN:STANDARD
TZOFFSETFROM:+0000
TZOFFSETTO:+0000
TZNAME:UTC
DTSTART:20250101T000000
END:STANDARD
END:VTIMEZONE
BEGIN:VEVENT
DTSTART;TZID=UTC:20260126T183000
DTEND;TZID=UTC:20260126T200000
DTSTAMP:20260424T205846
CREATED:20260119T191245Z
LAST-MODIFIED:20260119T191245Z
UID:8611-1769452200-1769457600@saintmichaelsmuskegon.com
SUMMARY:That Man Is You!
DESCRIPTION:TMIY (That Man Is You) will begin our next 13 weeks starting Monday January 19 from 6:30-8pm in conference room 3. Video\, handouts & discussion. No homework!
URL:https://saintmichaelsmuskegon.com/event/that-man-is-you-3/
LOCATION:St. Francis conference room 3
END:VEVENT
END:VCALENDAR