BEGIN:VCALENDAR
VERSION:2.0
PRODID:-//SAINT MICHAEL - ECPv6.15.20//NONSGML v1.0//EN
CALSCALE:GREGORIAN
METHOD:PUBLISH
X-ORIGINAL-URL:https://saintmichaelsmuskegon.com
X-WR-CALDESC:Events for SAINT MICHAEL
REFRESH-INTERVAL;VALUE=DURATION:PT1H
X-Robots-Tag:noindex
X-PUBLISHED-TTL:PT1H
BEGIN:VTIMEZONE
TZID:UTC
BEGIN:STANDARD
TZOFFSETFROM:+0000
TZOFFSETTO:+0000
TZNAME:UTC
DTSTART:20240101T000000
END:STANDARD
END:VTIMEZONE
BEGIN:VEVENT
DTSTART;VALUE=DATE:20251224
DTEND;VALUE=DATE:20251227
DTSTAMP:20260424T224957
CREATED:20251124T161856Z
LAST-MODIFIED:20251124T161856Z
UID:8405-1766534400-1766793599@saintmichaelsmuskegon.com
SUMMARY:Office Closed
DESCRIPTION:
URL:https://saintmichaelsmuskegon.com/event/office-closed-3/
END:VEVENT
BEGIN:VEVENT
DTSTART;TZID=UTC:20251224T180000
DTEND;TZID=UTC:20251224T190000
DTSTAMP:20260424T224957
CREATED:20251203T151826Z
LAST-MODIFIED:20251203T152203Z
UID:8415-1766599200-1766602800@saintmichaelsmuskegon.com
SUMMARY:Christmas Eve Mass
DESCRIPTION:St. Francis 4pm  St. Michael 6pm
URL:https://saintmichaelsmuskegon.com/event/christmas-eve-mass/
LOCATION:St. Michael’s Church\, 1716 Sixth Street\, Muskegon\, MI\, 49441\, United States
END:VEVENT
END:VCALENDAR