BEGIN:VCALENDAR
VERSION:2.0
PRODID:-//SAINT MICHAEL - ECPv6.15.20//NONSGML v1.0//EN
CALSCALE:GREGORIAN
METHOD:PUBLISH
X-WR-CALNAME:SAINT MICHAEL
X-ORIGINAL-URL:https://saintmichaelsmuskegon.com
X-WR-CALDESC:Events for SAINT MICHAEL
REFRESH-INTERVAL;VALUE=DURATION:PT1H
X-Robots-Tag:noindex
X-PUBLISHED-TTL:PT1H
BEGIN:VTIMEZONE
TZID:UTC
BEGIN:STANDARD
TZOFFSETFROM:+0000
TZOFFSETTO:+0000
TZNAME:UTC
DTSTART:20240101T000000
END:STANDARD
END:VTIMEZONE
BEGIN:VEVENT
DTSTART;TZID=UTC:20251219T080000
DTEND;TZID=UTC:20251219T093000
DTSTAMP:20260424T224925
CREATED:20251203T153525Z
LAST-MODIFIED:20251203T153525Z
UID:8424-1766131200-1766136600@saintmichaelsmuskegon.com
SUMMARY:Friday Rosary\, Mass\, Confession
DESCRIPTION:8:00 Rosary \n8:30 Mass \n9:00 Confession
URL:https://saintmichaelsmuskegon.com/event/friday-rosary-mass-confession-2/
LOCATION:St. Michael’s Church\, 1716 Sixth Street\, Muskegon\, MI\, 49441\, United States
CATEGORIES:Friday Mass
END:VEVENT
BEGIN:VEVENT
DTSTART;TZID=UTC:20251219T090000
DTEND;TZID=UTC:20251219T123000
DTSTAMP:20260424T224925
CREATED:20251215T141100Z
LAST-MODIFIED:20251215T141235Z
UID:8477-1766134800-1766147400@saintmichaelsmuskegon.com
SUMMARY:Oplatki available
DESCRIPTION:Envelopes with 3 sheets of oplatki are available for pick up in the church office. The cost is free but donations are accepted.
URL:https://saintmichaelsmuskegon.com/event/oplatki-available-3/
LOCATION:St.. Michael’s Parish Office\, 1716 6th Street\, Muskegon\, MI\, 49441\, United States
END:VEVENT
END:VCALENDAR