BEGIN:VCALENDAR
VERSION:2.0
PRODID:-//SAINT MICHAEL - ECPv6.15.20//NONSGML v1.0//EN
CALSCALE:GREGORIAN
METHOD:PUBLISH
X-WR-CALNAME:SAINT MICHAEL
X-ORIGINAL-URL:https://saintmichaelsmuskegon.com
X-WR-CALDESC:Events for SAINT MICHAEL
REFRESH-INTERVAL;VALUE=DURATION:PT1H
X-Robots-Tag:noindex
X-PUBLISHED-TTL:PT1H
BEGIN:VTIMEZONE
TZID:UTC
BEGIN:STANDARD
TZOFFSETFROM:+0000
TZOFFSETTO:+0000
TZNAME:UTC
DTSTART:20240101T000000
END:STANDARD
END:VTIMEZONE
BEGIN:VEVENT
DTSTART;TZID=UTC:20251215T083000
DTEND;TZID=UTC:20251215T153000
DTSTAMP:20260424T224329
CREATED:20251215T140830Z
LAST-MODIFIED:20251215T140830Z
UID:8473-1765787400-1765812600@saintmichaelsmuskegon.com
SUMMARY:Oplatki Available
DESCRIPTION:Envelopes with 3 sheets of Oplatki in each are available in the office. The cost is free but donations are accepted.
URL:https://saintmichaelsmuskegon.com/event/oplatki-available/
LOCATION:St.. Michael’s Parish Office\, 1716 6th Street\, Muskegon\, MI\, 49441\, United States
END:VEVENT
END:VCALENDAR