BEGIN:VCALENDAR
VERSION:2.0
PRODID:-//SAINT MICHAEL - ECPv6.15.20//NONSGML v1.0//EN
CALSCALE:GREGORIAN
METHOD:PUBLISH
X-ORIGINAL-URL:https://saintmichaelsmuskegon.com
X-WR-CALDESC:Events for SAINT MICHAEL
REFRESH-INTERVAL;VALUE=DURATION:PT1H
X-Robots-Tag:noindex
X-PUBLISHED-TTL:PT1H
BEGIN:VTIMEZONE
TZID:UTC
BEGIN:STANDARD
TZOFFSETFROM:+0000
TZOFFSETTO:+0000
TZNAME:UTC
DTSTART:20240101T000000
END:STANDARD
END:VTIMEZONE
BEGIN:VEVENT
DTSTART;TZID=UTC:20251207T100000
DTEND;TZID=UTC:20251207T110000
DTSTAMP:20260424T225027
CREATED:20251124T161607Z
LAST-MODIFIED:20251124T161607Z
UID:8401-1765101600-1765105200@saintmichaelsmuskegon.com
SUMMARY:Coffee and Donuts after Mass
DESCRIPTION:
URL:https://saintmichaelsmuskegon.com/event/coffee-and-donuts-after-mass/
LOCATION:St. Michael’s Family Center\, 1716 Sixth St\, Muskegon\, MI\, 49441\, United States
END:VEVENT
BEGIN:VEVENT
DTSTART;TZID=UTC:20251207T120000
DTEND;TZID=UTC:20251207T140000
DTSTAMP:20260424T225027
CREATED:20250910T133515Z
LAST-MODIFIED:20250910T133515Z
UID:8298-1765108800-1765116000@saintmichaelsmuskegon.com
SUMMARY:St. Nick Breakfast
DESCRIPTION:This is hosted at St. Francis in Shephards hall after the 11:00 mass.
URL:https://saintmichaelsmuskegon.com/event/st-nick-breakfast/
LOCATION:St. Francis De Sales Church\, 2929 McCracken St.\, Norton Shores\, MI\, United States
END:VEVENT
END:VCALENDAR