BEGIN:VCALENDAR
VERSION:2.0
PRODID:-//SAINT MICHAEL - ECPv6.15.20//NONSGML v1.0//EN
CALSCALE:GREGORIAN
METHOD:PUBLISH
X-ORIGINAL-URL:https://saintmichaelsmuskegon.com
X-WR-CALDESC:Events for SAINT MICHAEL
REFRESH-INTERVAL;VALUE=DURATION:PT1H
X-Robots-Tag:noindex
X-PUBLISHED-TTL:PT1H
BEGIN:VTIMEZONE
TZID:UTC
BEGIN:STANDARD
TZOFFSETFROM:+0000
TZOFFSETTO:+0000
TZNAME:UTC
DTSTART:20240101T000000
END:STANDARD
END:VTIMEZONE
BEGIN:VEVENT
DTSTART;TZID=UTC:20251005T100000
DTEND;TZID=UTC:20251005T120000
DTSTAMP:20260425T021216
CREATED:20250910T130047Z
LAST-MODIFIED:20250910T131726Z
UID:8293-1759658400-1759665600@saintmichaelsmuskegon.com
SUMMARY:Feast Day Brunch
DESCRIPTION:The feast day of St. Michael the Archangel is September 29th. We will celebrate on October 5th with a brunch. The Knights of Columbus will host this event in the school after the 9am amss.
URL:https://saintmichaelsmuskegon.com/event/feast-day-brunch/
LOCATION:St. Michael’s Family Center\, 1716 Sixth St\, Muskegon\, MI\, 49441\, United States
END:VEVENT
BEGIN:VEVENT
DTSTART;TZID=UTC:20251005T140000
DTEND;TZID=UTC:20251005T170000
DTSTAMP:20260425T021216
CREATED:20250926T132546Z
LAST-MODIFIED:20250926T152933Z
UID:8344-1759672800-1759683600@saintmichaelsmuskegon.com
SUMMARY:Craig’s Cruisers afternoon fun!
DESCRIPTION:Everyone is invited for fun with Fr. Steve & Go Karting at Craig’s Cruisers (1551 E. Pontaluna Rd) Sunday\, October 5 (rain date October 12) For special rates\, please meet at Craig Cruiser parking lot at 2-5pm. For questions or more details\, call Bob Stapleton 231-855-2713
URL:https://saintmichaelsmuskegon.com/event/craigs-cruisers-afternoon-fun/
LOCATION:Craig’s Cruisers\, 1551 E Pontaluna Rd\, Norton Shores\, MI\, United States
END:VEVENT
END:VCALENDAR