BEGIN:VCALENDAR
VERSION:2.0
PRODID:-//SAINT MICHAEL - ECPv6.15.20//NONSGML v1.0//EN
CALSCALE:GREGORIAN
METHOD:PUBLISH
X-ORIGINAL-URL:https://saintmichaelsmuskegon.com
X-WR-CALDESC:Events for SAINT MICHAEL
REFRESH-INTERVAL;VALUE=DURATION:PT1H
X-Robots-Tag:noindex
X-PUBLISHED-TTL:PT1H
BEGIN:VTIMEZONE
TZID:UTC
BEGIN:STANDARD
TZOFFSETFROM:+0000
TZOFFSETTO:+0000
TZNAME:UTC
DTSTART:20240101T000000
END:STANDARD
END:VTIMEZONE
BEGIN:VEVENT
DTSTART;TZID=UTC:20251003T080000
DTEND;TZID=UTC:20251003T170000
DTSTAMP:20260425T021242
CREATED:20250924T130744Z
LAST-MODIFIED:20250924T130744Z
UID:8329-1759478400-1759510800@saintmichaelsmuskegon.com
SUMMARY:No morning mass\, rosary or confessions
DESCRIPTION:
URL:https://saintmichaelsmuskegon.com/event/no-morning-mass-rosary-or-confessions/
END:VEVENT
END:VCALENDAR